BEGIN:VCALENDAR
VERSION:2.0
PRODID:-//LumberJack &amp; Jill - ECPv6.15.20//NONSGML v1.0//EN
CALSCALE:GREGORIAN
METHOD:PUBLISH
X-ORIGINAL-URL:https://lumberjacknjill.com
X-WR-CALDESC:Events for LumberJack &amp; Jill
REFRESH-INTERVAL;VALUE=DURATION:PT1H
X-Robots-Tag:noindex
X-PUBLISHED-TTL:PT1H
BEGIN:VTIMEZONE
TZID:America/Toronto
BEGIN:DAYLIGHT
TZOFFSETFROM:-0500
TZOFFSETTO:-0400
TZNAME:EDT
DTSTART:20240310T070000
END:DAYLIGHT
BEGIN:STANDARD
TZOFFSETFROM:-0400
TZOFFSETTO:-0500
TZNAME:EST
DTSTART:20241103T060000
END:STANDARD
BEGIN:DAYLIGHT
TZOFFSETFROM:-0500
TZOFFSETTO:-0400
TZNAME:EDT
DTSTART:20250309T070000
END:DAYLIGHT
BEGIN:STANDARD
TZOFFSETFROM:-0400
TZOFFSETTO:-0500
TZNAME:EST
DTSTART:20251102T060000
END:STANDARD
BEGIN:DAYLIGHT
TZOFFSETFROM:-0500
TZOFFSETTO:-0400
TZNAME:EDT
DTSTART:20260308T070000
END:DAYLIGHT
BEGIN:STANDARD
TZOFFSETFROM:-0400
TZOFFSETTO:-0500
TZNAME:EST
DTSTART:20261101T060000
END:STANDARD
END:VTIMEZONE
BEGIN:VEVENT
DTSTART;VALUE=DATE:20250807
DTEND;VALUE=DATE:20250808
DTSTAMP:20260421T233902
CREATED:20250305T034546Z
LAST-MODIFIED:20260116T040515Z
UID:1050-1754524800-1754611199@lumberjacknjill.com
SUMMARY:Warren County Fair\, PA
DESCRIPTION:PA\, USA
URL:https://lumberjacknjill.com/event/warren-county-fair-pa/
CATEGORIES:America,Northeast,PPLO,USA
END:VEVENT
BEGIN:VEVENT
DTSTART;VALUE=DATE:20250816
DTEND;VALUE=DATE:20250817
DTSTAMP:20260421T233902
CREATED:20250303T040039Z
LAST-MODIFIED:20260221T042855Z
UID:822-1755302400-1755388799@lumberjacknjill.com
SUMMARY:Dayton County Fair
DESCRIPTION:
URL:https://lumberjacknjill.com/event/dayton-county-fair/
CATEGORIES:America,Northeast,PPLO,USA
END:VEVENT
BEGIN:VEVENT
DTSTART;VALUE=DATE:20250822
DTEND;VALUE=DATE:20250824
DTSTAMP:20260421T233902
CREATED:20250303T040114Z
LAST-MODIFIED:20260221T042855Z
UID:828-1755820800-1755993599@lumberjacknjill.com
SUMMARY:Wheels of Time\, PA\, US
DESCRIPTION:Macungie Memorial Park\, Macungie PA
URL:https://lumberjacknjill.com/event/wheels-of-time/
CATEGORIES:America,Northeast,PPLO,USA
END:VEVENT
END:VCALENDAR