BEGIN:VCALENDAR
VERSION:2.0
PRODID:-//LumberJack &amp; Jill - ECPv6.15.20//NONSGML v1.0//EN
CALSCALE:GREGORIAN
METHOD:PUBLISH
X-ORIGINAL-URL:https://lumberjacknjill.com
X-WR-CALDESC:Events for LumberJack &amp; Jill
REFRESH-INTERVAL;VALUE=DURATION:PT1H
X-Robots-Tag:noindex
X-PUBLISHED-TTL:PT1H
BEGIN:VTIMEZONE
TZID:America/Toronto
BEGIN:DAYLIGHT
TZOFFSETFROM:-0500
TZOFFSETTO:-0400
TZNAME:EDT
DTSTART:20250309T070000
END:DAYLIGHT
BEGIN:STANDARD
TZOFFSETFROM:-0400
TZOFFSETTO:-0500
TZNAME:EST
DTSTART:20251102T060000
END:STANDARD
BEGIN:DAYLIGHT
TZOFFSETFROM:-0500
TZOFFSETTO:-0400
TZNAME:EDT
DTSTART:20260308T070000
END:DAYLIGHT
BEGIN:STANDARD
TZOFFSETFROM:-0400
TZOFFSETTO:-0500
TZNAME:EST
DTSTART:20261101T060000
END:STANDARD
BEGIN:DAYLIGHT
TZOFFSETFROM:-0500
TZOFFSETTO:-0400
TZNAME:EDT
DTSTART:20270314T070000
END:DAYLIGHT
BEGIN:STANDARD
TZOFFSETFROM:-0400
TZOFFSETTO:-0500
TZNAME:EST
DTSTART:20271107T060000
END:STANDARD
END:VTIMEZONE
BEGIN:VEVENT
DTSTART;VALUE=DATE:20260904
DTEND;VALUE=DATE:20260905
DTSTAMP:20260421T133647
CREATED:20260319T204857Z
LAST-MODIFIED:20260420T024252Z
UID:2920-1788480000-1788566399@lumberjacknjill.com
SUMMARY:Lancaster Fair Lumberjack Competition - Day 1\, NH\, US
DESCRIPTION:516 Main St\, Lancaster\, NH 03584\, US
URL:https://lumberjacknjill.com/event/lancaster-fair-lumberjack-competition-day-1-nh-us-2/
CATEGORIES:America,DHLS,Northeast,USA
END:VEVENT
BEGIN:VEVENT
DTSTART;VALUE=DATE:20260905
DTEND;VALUE=DATE:20260906
DTSTAMP:20260421T133647
CREATED:20260319T204857Z
LAST-MODIFIED:20260420T024252Z
UID:2921-1788566400-1788652799@lumberjacknjill.com
SUMMARY:Lancaster Fair Lumberjack Competition - Day 2\, NH\, US
DESCRIPTION:516 Main St\, Lancaster\, NH 03584\, US
URL:https://lumberjacknjill.com/event/lancaster-fair-lumberjack-competition-day-2-nh-us-2/
CATEGORIES:America,DHLS,Northeast,USA
END:VEVENT
BEGIN:VEVENT
DTSTART;VALUE=DATE:20260906
DTEND;VALUE=DATE:20260907
DTSTAMP:20260421T133647
CREATED:20260319T204853Z
LAST-MODIFIED:20260420T024252Z
UID:2916-1788652800-1788739199@lumberjacknjill.com
SUMMARY:New England Cup Lumberjack Championships. CT\, US
DESCRIPTION:New England Cup\n116 Old Middle St\, Goshen\, CT 06756\, US\nThis is a sign-up day-of competition and “BYOB” (bring your own chopping block) and you may not have competed on the Professional Day.
URL:https://lumberjacknjill.com/event/new-england-cup-lumberjack-championships-ct-us/
CATEGORIES:America,DHLS,Northeast,USA
END:VEVENT
BEGIN:VEVENT
DTSTART;VALUE=DATE:20260907
DTEND;VALUE=DATE:20260908
DTSTAMP:20260421T133647
CREATED:20260319T204856Z
LAST-MODIFIED:20260420T024252Z
UID:2917-1788739200-1788825599@lumberjacknjill.com
SUMMARY:Goshen Fair Amateur Lumberjack Competition\, CT\, US
DESCRIPTION:New England Cup\n116 Old Middle St\, Goshen\, CT 06756\, US
URL:https://lumberjacknjill.com/event/goshen-fair-amateur-lumberjack-competition-ct-us/
CATEGORIES:America,DHLS,Northeast,USA
END:VEVENT
BEGIN:VEVENT
DTSTART;VALUE=DATE:20260920
DTEND;VALUE=DATE:20260921
DTSTAMP:20260421T133647
CREATED:20260319T204857Z
LAST-MODIFIED:20260420T024251Z
UID:2918-1789862400-1789948799@lumberjacknjill.com
SUMMARY:Granite State Fair Lumberjack Competition\, NH\, US
DESCRIPTION:72 Lafayette St\, Rochester\, NH 03867\, US
URL:https://lumberjacknjill.com/event/granite-state-fair-lumberjack-competition-nh-us-2/
CATEGORIES:America,DHLS,Northeast,USA
END:VEVENT
END:VCALENDAR