BEGIN:VCALENDAR
VERSION:2.0
PRODID:-//LumberJack &amp; Jill - ECPv6.15.20//NONSGML v1.0//EN
CALSCALE:GREGORIAN
METHOD:PUBLISH
X-WR-CALNAME:LumberJack &amp; Jill
X-ORIGINAL-URL:https://lumberjacknjill.com
X-WR-CALDESC:Events for LumberJack &amp; Jill
REFRESH-INTERVAL;VALUE=DURATION:PT1H
X-Robots-Tag:noindex
X-PUBLISHED-TTL:PT1H
BEGIN:VTIMEZONE
TZID:America/Toronto
BEGIN:DAYLIGHT
TZOFFSETFROM:-0500
TZOFFSETTO:-0400
TZNAME:EDT
DTSTART:20240310T070000
END:DAYLIGHT
BEGIN:STANDARD
TZOFFSETFROM:-0400
TZOFFSETTO:-0500
TZNAME:EST
DTSTART:20241103T060000
END:STANDARD
BEGIN:DAYLIGHT
TZOFFSETFROM:-0500
TZOFFSETTO:-0400
TZNAME:EDT
DTSTART:20250309T070000
END:DAYLIGHT
BEGIN:STANDARD
TZOFFSETFROM:-0400
TZOFFSETTO:-0500
TZNAME:EST
DTSTART:20251102T060000
END:STANDARD
BEGIN:DAYLIGHT
TZOFFSETFROM:-0500
TZOFFSETTO:-0400
TZNAME:EDT
DTSTART:20260308T070000
END:DAYLIGHT
BEGIN:STANDARD
TZOFFSETFROM:-0400
TZOFFSETTO:-0500
TZNAME:EST
DTSTART:20261101T060000
END:STANDARD
END:VTIMEZONE
BEGIN:VEVENT
DTSTART;VALUE=DATE:20251012
DTEND;VALUE=DATE:20251013
DTSTAMP:20260421T163859
CREATED:20250528T011634Z
LAST-MODIFIED:20260420T024253Z
UID:2132-1760227200-1760313599@lumberjacknjill.com
SUMMARY:Warner Fall Foliage Festival Lumberjack Competition\, NH\, US
DESCRIPTION:Not sure about the address. Please check.\n2 W Main St\, Warner\, NH 03278\, US
URL:https://lumberjacknjill.com/event/warner-fall-foliage-festival-lumberjack-competition-nh-us/
CATEGORIES:America,DHLS,Northeast,USA
END:VEVENT
END:VCALENDAR